BEGIN:VCALENDAR
VERSION:2.0
PRODID:-//eventon.com NONSGML v1.0//EN
CALSCALE:GREGORIAN
METHOD:PUBLISH
BEGIN:VEVENT
UID:69e6048af3c62
DTSTAMP:20260420T104842Z
DTSTART:20250711
DTEND:20250712
LOCATION:
SUMMARY:Shark Weekend
DESCRIPTION:Whether you're a shark enthusiast or just curious\,  Shark Week
 end is a perfect opportunity to gain a deeper appreciation for these incred
 ible creatures and the vital role they play in our oceans.\nhttps://www.pin
 ewoodlodge.com/events/shark-weekend/
URL:https://www.pinewoodlodge.com/events/shark-weekend/
END:VEVENT
END:VCALENDAR